BEGIN:VCALENDAR
PRODID:-//SFZero.org//NONSGML SFZero//EN
VERSION:2.0
METHOD:PUBLISH
BEGIN:VEVENT
DESCRIPTION:I'm not oar- ganizing anything here, just mentioning for the good of the populace:\n\nThe Million Pirate March\n(as a part of the Bay to Breakers... um, event)\n\nEncourages YOU!\nto don your best piratical gear, board your most piratical [insert shopping cart here] and join the melee!\n\n\n\nDetails found on this website.\n\nThe race begins at 8am. The drunken hoards envelope the city throughout the day. (There is no call time.)\n\nFYI.
TZID:California-Los_Angeles
DTSTART:20080518T080000
DTEND:20080518T170000
DTSTAMP:20260423T215200Z
LOCATION:Bay to BreakersEmbarcadero & Steuart St., San Francisco
ORGANIZER:MAILTO:you@sf0.org
SUMMARY:Million Pirate March
UID:20080518T080000125SFZero.org.EVENT
PRIORITY:5
CLASS:PUBLIC
END:VEVENT
END:VCALENDAR
