BEGIN:VCALENDAR
PRODID:-//SFZero.org//NONSGML SFZero//EN
VERSION:2.0
METHOD:PUBLISH
BEGIN:VEVENT
DESCRIPTION:Games\nTasks\nGifts of Task\nSeeing Beyond Sight\nDebate\n\nAll players and especially Minneapolis players are invited to join us for a rousing game and afternoon of intense public debate by any and all SF0 senate candidates who choose to come. Two candidates are already guaranteed to be in attendance! Come dressed to play and bring with you any stuff you might want if you have some collaborative tasks in mind. This will also be a good chance for some folks to do Seeing Beyond Sight Photo challenges.
TZID:California-Los_Angeles
DTSTART:20070603T143000
DTSTAMP:20260424T055653Z
LOCATION:Stevens Square Park Minneapolis1801 Stevens Ave S Minneapolis, MN 55403
ORGANIZER:MAILTO:you@sf0.org
SUMMARY:Bats vs. Bunnies 2: The Great MNZero Debate
UID:20070603T14300015SFZero.org.EVENT
PRIORITY:5
CLASS:PUBLIC
END:VEVENT
END:VCALENDAR
