BEGIN:VCALENDAR
PRODID:-//SFZero.org//NONSGML SFZero//EN
VERSION:2.0
METHOD:PUBLISH
BEGIN:VEVENT
DESCRIPTION:Hiya Kids! It's me! Mantooth! Back from the ether! I need some help but it will be fun help, so read on.\n\nI am going to be in the San Francisco area to cover a video game premier for the internet television station I work for - www.lagtv.com.\n\nThe premier is being put on by a MAJOR video game publisher. I am going to be interviewing designers, producers and getting some hands on time with the game in question.\n\nMy camera man, who was going to come up from Los Angeles, had to cancel on me at essentially the last minute. I don't gots no AV contacts in the bay area so my mind immediately turned to SF0.\n\nIf you are competent with a professional Digi-Vid camera (specifically a Sony Z-1), want to mingle with mice elf and video game bigs wigs, get some schwag and free food, then read on.\n\nI fly into SF0 at 4:30pm, this Tuesday, August 5th. My camera compatriot needs to be able to make themselves available by 4:30pm on 8/5 and all day on 8/6. The actual event will be in Redwood City. I have hotel accommodations and we can share the room to save on gas, BART costs, etc. so long as you don't mind sharing it with an almost complete stranger and you are not a serial killer.\n\nThe publisher in question is throwing a big mixer / party on Tuesday night and will feed us that evening and during the event on Wednesday. You will also probably get some free promotional stuff. There is no monetary compensation for this job.\n\nBottom line - I got your hotel, food, camera package.\n\nThis should be pretty fun and I'm fun and I hope you will be fun! Everyone should have fun! Of course, more specific details will be provided to interested parties.\n\nIf you're interested, contact me ASAP. You may either write me on SF0 or email me directly - sean@lagtv.com
TZID:California-Los_Angeles
DTSTART:20080805T163000
DTEND:20080806T180000
DTSTAMP:20260422T062642Z
LOCATION:San Francisco / Redwood CitySan Francisco / Redwood City
ORGANIZER:MAILTO:you@sf0.org
SUMMARY:Help Mantooth shoot video game premier!
UID:20080805T163000168SFZero.org.EVENT
PRIORITY:5
CLASS:PUBLIC
END:VEVENT
END:VCALENDAR
