BEGIN:VCALENDAR
PRODID:-//SFZero.org//NONSGML SFZero//EN
VERSION:2.0
METHOD:PUBLISH
BEGIN:VEVENT
DESCRIPTION:Journey To The End Of The Night returns to San Francisco, Saturday June 23rd at 7pm.\n\nA pursuit across San Francisco in 5 (10?) parts. With new ribbons, rules and a very special prize for the winners!\n\nThe city spreads out before you. Rushing from point to point, lit by the slow strobe of fluorescent buses and dark streets. Stumbling into situations for a stranger's signature. Fleeing unknown pursuers, breathing hard, admiring the landscape and the multitude of worlds hidden in it.\n\nFor one night, drop your relations, your work and leisure activities, and all your usual motives for movement and action, and let yourself be drawn by the attractions of the chase and the encounters you find there.\n\nFor more info, check out last year's documentations.\n\n
TZID:California-Los_Angeles
DTSTART:20070623T190000
DTSTAMP:20260421T074838Z
LOCATION:Steuart St. between Market and Mission, San FranciscoSteuart And Market St., San Francisco
ORGANIZER:MAILTO:you@sf0.org
SUMMARY:Journey To The End Of The Night
UID:20070623T19000017SFZero.org.EVENT
PRIORITY:5
CLASS:PUBLIC
END:VEVENT
END:VCALENDAR
