BEGIN:VCALENDAR
PRODID:-//SFZero.org//NONSGML SFZero//EN
VERSION:2.0
METHOD:PUBLISH
BEGIN:VEVENT
DESCRIPTION:I really like the dance patches in this, and figure they ought to be propagated more. So wherever you find yourself on August 28th at 17h30, draw a dance patch, and dance in it.\n\nAll you need is drawing stuff (chalk is nice).\n\nI'll be starting alone, then planning to meet with others in London at 6:12pm. Details for that here.\n\nAny other details for social dance patching to follow the solo part can be added here.
TZID:California-Los_Angeles
DTSTART:20080828T173000
DTSTAMP:20260423T232501Z
LOCATION:EverywhereEverywhere
ORGANIZER:MAILTO:you@sf0.org
SUMMARY:International Dance Patch Day
UID:20080828T173000171SFZero.org.EVENT
PRIORITY:5
CLASS:PUBLIC
END:VEVENT
END:VCALENDAR
