BEGIN:VCALENDAR
PRODID:-//SFZero.org//NONSGML SFZero//EN
VERSION:2.0
METHOD:PUBLISH
BEGIN:VEVENT
DESCRIPTION:Charlie Fish and nine of his friends are flying across the Atlantic to embark upon an epic roadtrip.\nWe have rented a 12-seater passenger van and a Ford Mustang convertible. Which means we have spare seats. If you live near our route, let us know so we can come and say hi!\n\n\n\n
TZID:California-Los_Angeles
DTSTART:20080830T000000
DTEND:20080913T000000
DTSTAMP:20260420T171055Z
LOCATION:California, Nevada, Utah, Arizona
ORGANIZER:MAILTO:you@sf0.org
SUMMARY:Road Trip
UID:20080830T000000178SFZero.org.EVENT
PRIORITY:5
CLASS:PUBLIC
END:VEVENT
END:VCALENDAR
