BEGIN:VCALENDAR
PRODID:-//SFZero.org//NONSGML SFZero//EN
VERSION:2.0
METHOD:PUBLISH
BEGIN:VEVENT
DESCRIPTION:THIS IS A CALL TO ALL THE DECENT AND RESPECTABLE CITIZENS OF SF0\nSome of you have recently expressed regret at the current state of the SF0 point economy.\nI would like to stress that the fundamentals of the economy are strong. Zeroians are still by far the most productive citizens of the entire internet.\nHowever, point growth has been slow in recent times. I understand that it has become difficult to provide much needed points to feed your family at night. Real people all over this community are wondering, "How am I going to pay for that 8% damage increase, let alone all those forged birth certificates?".\n\nBut I have a plan.\nThe only way to get out point economy back on track is to increase the number of points in circulation.\n\nThis means that all true and faithful Zerioans need to keep the faith, stay strong, and GO VOTING.\n\nThe only way we can keep this great economy going is to keep investing our points in it. In order to maintain a leadership position in the community of internets, we need to stay competitive.\n\nSpend your points, recklessly and exuberantly! Our very well-being as a community depends on it.\n\nNEED I REMIND YOU OF THE CONSEQUENCES?\n\nThey're holding it in right now, but if you don't grow the economy these men will come to your house and throw up all over your nice, new floor.\n\nSaving points for the future is reckless and, frankly, unpatriotic.\nKeep tasking, and keep spending.\nI have faith that you will all do your duty.
TZID:California-Los_Angeles
DTSTART:20081009T000000
DTEND:20081103T000000
DTSTAMP:20260420T141834Z
LOCATION:The Great Nation of San Francisco
ORGANIZER:MAILTO:you@sf0.org
SUMMARY:---~ATTN CITIZENS: FIGHT SF0 STAGNATION NOW~---
UID:20081009T000000200SFZero.org.EVENT
PRIORITY:5
CLASS:PUBLIC
END:VEVENT
END:VCALENDAR
