BEGIN:VCALENDAR
PRODID:-//SFZero.org//NONSGML SFZero//EN
VERSION:2.0
METHOD:PUBLISH
BEGIN:VEVENT
DESCRIPTION:I know I've been overly annoying these last two years with my constant complaining about being homesick... I suppose it's time to go home.\n\nI am finished with school at the end of this Semester, and will be immediately returning home to my sweet San Francisco Bay Area. The going away party will be the afternoon of Sunday, December 7th.\n\nAs I have completely run out of money at this point, and am relying on the skin of my teeth to make it one more month here, I have devised a scheme to earn some money to ship me back to California: I am painting one small painting every night (in the manner of a diary entry), and will be auctioning them off for cheap at the going away party. I started painting them on October 3rd, so I will have 65 little paintings to get rid of by the time the party rolls around. Each piece will be distributed by silent auction during the party - I will be accepting cash, personal check, barter, and even bids of ephemeral nature! Please, please, take a little scrap of art home with you (I would like to think that I've left something in this city), I have plenty for everybody.\n\nOh yeah, and I'd like to see all those people that I've had the honor of meeting through the wonder of the internets! I will be serving tea and pancakes all afternoon, so even if you hate me now, coming to the party won't be a total loss.\n\nSpecific CG0 business:\n\nI will be passing the LEADER position of Team CG0 on to the Chicag0 player with the highest current Era point total as of December 6th, 2008. This ceremony will occur at the party.\n\nLove,\nDax
TZID:California-Los_Angeles
DTSTART:20081207T140000
DTEND:20081207T200000
DTSTAMP:20260423T135728Z
LOCATION:My Place2850 N Elston Ave
ORGANIZER:MAILTO:you@sf0.org
SUMMARY:The CG0 Crown
UID:20081207T140000206SFZero.org.EVENT
PRIORITY:5
CLASS:PUBLIC
END:VEVENT
END:VCALENDAR
