BEGIN:VCALENDAR
PRODID:-//SFZero.org//NONSGML SFZero//EN
VERSION:2.0
METHOD:PUBLISH
BEGIN:VEVENT
DESCRIPTION:We completed the Door Installation Task\n\nWe painted at least 30 doors and made a stonehendge of sorts out of them.\n\nIf you're in the SF area, we highly recommend you go see it while its still up.\n\n\nIts not that easy to find so read the info below. It should be easy enough to find it with this info.\n\n\n\n\n\n\n\n\ndoor location: biome gardens (GG park near beach)\n\n-enter this into google maps:\n1320 John F kennedy drive golden gate park\nbiome gardens is a clearing with a stone fire pit 50-75 feet south of this point\nPS there are no actual numbers on the street\n\n\n- The path is pretty much exactly across the street from a public restroom.\n\n\n- If you enter the park from 41st Ave. and Lincoln head north (into the park) and take a left (toward the beach) at the second intersection. The ll be 100 - 200 feet after the turn.
TZID:California-Los_Angeles
DTSTART:20070819T180000
DTEND:20070819T190000
DTSTAMP:20260424T192617Z
LOCATION:Biome Gardens, Golden Gate Park1320 John F kennedy drive golden gate park
ORGANIZER:MAILTO:you@sf0.org
SUMMARY:DOOR INSTALLATION TASK
UID:20070819T18000021SFZero.org.EVENT
PRIORITY:5
CLASS:PUBLIC
END:VEVENT
END:VCALENDAR
