BEGIN:VCALENDAR
PRODID:-//SFZero.org//NONSGML SFZero//EN
VERSION:2.0
METHOD:PUBLISH
BEGIN:VEVENT
DESCRIPTION:Do you seek psycho-sensual growth and renewal? Do you wish to reach out to the recondite family that awaits you?\n\nThe Playtime Anti-Boredom Society is ever on the lookout for fellow practitioners of Superior Reality Design, and we'd like to draw your attention one such organization. Sam, Ian and I recently underwent an induction proceeding at the local branch of The Jejune Institute.\n\nAll we know about this presence in the city is from our visit to their office, but that managed experience was expertly crafted. The office is open from noon-5:30 Tuesday-Saturday, and there's some not-necessary further information at the website.\n\nIf you seek juvenation (or if you've been looking to hone your tasking skills), you should find it worth the visit.
TZID:California-Los_Angeles
DTSTART:20081120T000000
DTEND:20090101T000000
DTSTAMP:20260420T213024Z
LOCATION:580 California St. Suite 1607580 California St. San Francisco, CA
ORGANIZER:MAILTO:you@sf0.org
SUMMARY:Jejune Initiation
UID:20081120T000000213SFZero.org.EVENT
PRIORITY:5
CLASS:PUBLIC
END:VEVENT
END:VCALENDAR
