BEGIN:VCALENDAR
PRODID:-//SFZero.org//NONSGML SFZero//EN
VERSION:2.0
METHOD:PUBLISH
BEGIN:VEVENT
DESCRIPTION:\n\nWelcome to the Game of Deception. The Grand Mask invites you to play.\n\nYou are competing for the Deception Trophy and the title of Deception Champion of the first Game of Deception.\n\nThe Game of Deception works like this.\n\nA YES or NO question will be asked. You have 72 hours to submit your answer, either YES or NO, via private message to the Grand Mask. If you fail to answer within the time allotted, you will be removed from the game.\n\nWhen the 72 hours are up, the votes are tallied, and the majority win that round. Those who belong to the minority are removed from the game. The next question will then be asked. If there is a tie (there is no majority), then nobody is eliminated the game goes on.\n\nUltimately, two players will be left, and of the two, whoever has the most Money will win the Grand Prize.\n\nWhat is Money? At the beginning of the game, the Grand Mask gives all players 1000 M. This is the currency of the Game of Deception. Using Money, you can trade absolutely anything. This is important.\n\nAll deals using Money must be agreed upon by all players it involves. The exact traded goods or services must be specified in private messages to the Grand Mask by all players involved in the deal.\n\nIf a deal is not upheld by a player, that player is fined 1000 M.\n\nThose are the rules of the Game of Deception.\n\nStatistics about the game (such as who is left in the game and how much Money each player has) will be available at http://gameofdeception.co.nr/ when the game begins.\n\nThe game begins on the first of December. Join the game by joining this event - you have nothing to lose...\n\nSincerely,\n\nThe Grand Mask\n
TZID:California-Los_Angeles
DTSTART:20081201T000000
DTEND:20090101T000000
DTSTAMP:20260420T000554Z
LOCATION:The Human Mind
ORGANIZER:MAILTO:you@sf0.org
SUMMARY:The Game of Deception
UID:20081201T000000214SFZero.org.EVENT
PRIORITY:5
CLASS:PUBLIC
END:VEVENT
END:VCALENDAR
