BEGIN:VCALENDAR
PRODID:-//SFZero.org//NONSGML SFZero//EN
VERSION:2.0
METHOD:PUBLISH
BEGIN:VEVENT
DESCRIPTION:FAST AND LOOSE\nat Sacred Fools\none night only, Dec 31\nparty afterwards\n\n\nA few SF0ers will be participating, if you're in or near L.A. or can get there before 8:00, I encourage that behavior.
TZID:California-Los_Angeles
DTSTART:20081231T200000
DTSTAMP:20260423T214853Z
LOCATION:Sacred Fools Theater660 N. Heliotrope Drive Los Angeles, California 90004
ORGANIZER:MAILTO:you@sf0.org
SUMMARY:Fast 'n' Loose
UID:20081231T200000220SFZero.org.EVENT
PRIORITY:5
CLASS:PUBLIC
END:VEVENT
END:VCALENDAR
