BEGIN:VCALENDAR
PRODID:-//SFZero.org//NONSGML SFZero//EN
VERSION:2.0
METHOD:PUBLISH
BEGIN:VEVENT
DESCRIPTION:Seeking your stories about how playing SFZero has changed your life.\n\nI think that SFZero is an example of "transformative gaming"---a type of voluntary activity that is deliberately designed to change the way that participants view themselves, interact with others, and experience the world. But, I'm curious whether you agree, and what your experience has been. Comment here or send me a message.\n\nI will use any collected anecdotes to (1) bolster my attempt to project an 8 ft radial field of positive neuro-waves that will affect the brains of those near me (2) secure government funding to relieve the Humanitarian Crisis (3) remember the future and plan history (4) decide whether I love you more than before. Thanks!\n
TZID:California-Los_Angeles
DTSTART:20100210T090000
DTEND:20100217T210000
DTSTAMP:20260421T112532Z
LOCATION:where ever you areSFZero
ORGANIZER:MAILTO:you@sf0.org
SUMMARY:You, Transformed by Gaming?
UID:20100210T090000280SFZero.org.EVENT
PRIORITY:5
CLASS:PUBLIC
END:VEVENT
END:VCALENDAR
