BEGIN:VCALENDAR
PRODID:-//SFZero.org//NONSGML SFZero//EN
VERSION:2.0
METHOD:PUBLISH
BEGIN:VEVENT
DESCRIPTION:Cruel 2B Kind, the game of benevolent assassination, is a street game designed and developed by Jane Bogost and Ian McGonigal. It's like a short-duration game of assassins, except that the weapons are random acts of kindness. Bystanders will be caught in the crossfire, but that's part of the fun - just think, a small knot of people walking up to you on the street and complimenting your shoes in unison.\n\nLearn the game at http://www.cruelgame.com and register by contacting NCPublicPlay@gmail.com (an account I've made for use with this and other possible future street games in this state).
TZID:California-Los_Angeles
DTSTART:20100423T190000
DTSTAMP:20260425T113520Z
LOCATION:Downtown (specifics TBA)Chapel Hill, NC
ORGANIZER:MAILTO:you@sf0.org
SUMMARY:Cruel 2B Kind: NC
UID:20100423T190000288SFZero.org.EVENT
PRIORITY:5
CLASS:PUBLIC
END:VEVENT
END:VCALENDAR
