BEGIN:VCALENDAR
PRODID:-//SFZero.org//NONSGML SFZero//EN
VERSION:2.0
METHOD:PUBLISH
BEGIN:VEVENT
DESCRIPTION:I'll only be in SF to Ride the bart and cal train to a family reunion, but if there are any BART related tasks such as this or this I'll be in town. I'd also love to meet anyone face to face.\n\nWish i could spend actual time in the home of the lovely Sutro, but i'm so happy i can come at all! 
TZID:California-Los_Angeles
DTSTART:20100723T203000
DTEND:20100725T131000
DTSTAMP:20260420T043437Z
LOCATION:San Francisco International Airport 
ORGANIZER:MAILTO:you@sf0.org
SUMMARY:Pixie Visits San Fransisco
UID:20100723T203000298SFZero.org.EVENT
PRIORITY:5
CLASS:PUBLIC
END:VEVENT
END:VCALENDAR
