BEGIN:VCALENDAR
PRODID:-//SFZero.org//NONSGML SFZero//EN
VERSION:2.0
METHOD:PUBLISH
BEGIN:VEVENT
DESCRIPTION:MX02102010\n\nViaje al Final de la Noche: Ciudad de México - http://www.viajealfinaldelanoche.mx/\n\n[ La ciudad se esparce ante tí. Te apresuras de un punto a otro, iluminado por el lento estroboscopio de autobuses fluorescentes y calles oscuras. Enfrentas situaciones para conseguir la firma de un extraño. Huyes de perseguidores desconocidos, respirando apresuradamente, admirando el paisaje y la multitud de mundos escondidos dentro. Por una noche, olvida tus relaciones, tu trabajo y tus actividades de ocio, y todos tus motivos acostumbrados para el movimiento y la acción, y déjate arrastrar por la emoción de la cacería y los encuentros que ocurran ahí. ]\n\nJourney to the End of the Night es un juego callejero libre y gratuito de proporciones épicas, presentado en la Ciudad de México por primera vez.\n\nLos jugadores tratan de pasar a través de una serie de "puntos de revisión" evitando ser atrapados por sus perseguidores.\n\nAquellos que fallen se volverán a su vez Perseguidores y tratarán de capturar a los que fueran sus amigos y aliados.\n\nNo patines, no bicicletas, no carros, no autobuses, sólo tus pies y el metrobús.\n\n    * Quién:Tú y tus amigos\n    * Qué: Un juego callejero a lo largo de toda la ciudad en el que habrá que recolectar, sobrevivir, cazar y ser cazado.\n    * Cuándo: 2 de Octubre, 2010 / 6 pm\n    * Dónde: Parque México\n    * Por qué: Porque sientes el impulso de ser parte de algo grandioso\n    * Cómo: Trae zapatos para correr, ropa cómoda, agua y tal vez una cámara. Organiza un equipo o corre solo.\n- - - * - - -\n\nJourney to the End of the Night: Mexico City - http://www.viajealfinaldelanoche.mx/\n\n[The city is spread before you. You race from one point to another, lit by the slow strobe of fluorescent buses and dark streets. Coping to get the signature of a stranger. Flee from unknown pursuers, breathing quickly, admiring the landscape and the multitude of worlds hidden inside. For one night, forget your relationships, your work and your leisure activities, and all your usual motives for movement and action, and let yourself be carried away by the thrill of the chase and the encounters that occur there. ]\n\nJourney to the End of the Night is a free and open street game of epic proportions, presented in Mexico City for the first time.\n\nPlayers try to pass through a series of "checkpoints" to avoid being caught by their pursuers.\n\nThose that fail will become Chasers turn and try to capture those who were their friends and allies.\n\nNo skates, no bikes, no cars, no buses, only your feet and the Metrobus.\n\n    * Who: You and your friends\n    * What: A street game played throughout the entire city which will be survival, hunting and being hunted.\n    * When: October 2, 2010 / 6 pm\n    * Where: Parque Mexico\n    * Why: Because you feel the urge to be part of something great\n    * How to: Bring running shoes, comfortable clothing, water and maybe a camera. Organize a team or run alone.\n
TZID:California-Los_Angeles
DTSTART:20101002T180000
DTSTAMP:20260421T095754Z
LOCATION:Parque Mexico - Condesa107 Mexico, Hipodromo, Condesa, D.f., Mexico
ORGANIZER:MAILTO:you@sf0.org
SUMMARY:MX02102010 (Journey to the End of the Night: Mexico City)
UID:20101002T180000304SFZero.org.EVENT
PRIORITY:5
CLASS:PUBLIC
END:VEVENT
END:VCALENDAR
