BEGIN:VCALENDAR
PRODID:-//SFZero.org//NONSGML SFZero//EN
VERSION:2.0
METHOD:PUBLISH
BEGIN:VEVENT
DESCRIPTION:Play sardines. In a massive library! \nIt'll be glorious! \nCome one, come all! \nNote: Under no circumstances may someone hide in the book drop. \n
TZID:California-Los_Angeles
DTSTART:20110115T120000
DTSTAMP:20260421T002500Z
LOCATION:Main Library, San Francisco. 100 Larkin Street San Francisco, CA 94102
ORGANIZER:MAILTO:you@sf0.org
SUMMARY:Bibliotecha de Sardinia! 
UID:20110115T120000314SFZero.org.EVENT
PRIORITY:5
CLASS:PUBLIC
END:VEVENT
END:VCALENDAR
