BEGIN:VCALENDAR
PRODID:-//SFZero.org//NONSGML SFZero//EN
VERSION:2.0
METHOD:PUBLISH
BEGIN:VEVENT
DESCRIPTION:This is it.
TZID:California-Los_Angeles
DTSTART:20110120T000000
DTSTAMP:20260423T170437Z
LOCATION:Los Angeles
ORGANIZER:MAILTO:you@sf0.org
SUMMARY:The End
UID:20110120T000000317SFZero.org.EVENT
PRIORITY:5
CLASS:PUBLIC
END:VEVENT
END:VCALENDAR
