BEGIN:VCALENDAR
PRODID:-//SFZero.org//NONSGML SFZero//EN
VERSION:2.0
METHOD:PUBLISH
BEGIN:VEVENT
DESCRIPTION:This was only a TesT\nhad this been other\nsomeone would be there\nHUb'
TZID:California-Los_Angeles
DTSTART:20110530T120000
DTEND:20110530T120100
DTSTAMP:20260423T043646Z
LOCATION:Library StepsSW 10th
ORGANIZER:MAILTO:you@sf0.org
SUMMARY:97205
UID:20110530T120000339SFZero.org.EVENT
PRIORITY:5
CLASS:PUBLIC
END:VEVENT
END:VCALENDAR
