BEGIN:VCALENDAR
PRODID:-//SFZero.org//NONSGML SFZero//EN
VERSION:2.0
METHOD:PUBLISH
BEGIN:VEVENT
DESCRIPTION:\n\nTENnants 
TZID:California-Los_Angeles
DTSTART:20110531T150000
DTEND:20110531T140000
DTSTAMP:20260422T094655Z
LOCATION:LoBBy929 SW Salmon
ORGANIZER:MAILTO:you@sf0.org
SUMMARY:97205/SW10th
UID:20110531T150000341SFZero.org.EVENT
PRIORITY:5
CLASS:PUBLIC
END:VEVENT
END:VCALENDAR
