BEGIN:VCALENDAR
PRODID:-//SFZero.org//NONSGML SFZero//EN
VERSION:2.0
METHOD:PUBLISH
BEGIN:VEVENT
DESCRIPTION:Situate yourself in the public realm for this day of urban interventions and public art projects. The Grounded? Public Art/Urban Interventions Day presents work by artists using the city as a platform for creativity and expression. Pick up a map and schedule locating the selected projects at Southern Exposure or Intersection for the Arts or on our websites and start exploring!\n\nGROUNDED?\n\n\nn.b. I put this up now because the related exhibition is actually accepting entries until october 26th....\n\ncould be fertile soil for many a task.
TZID:California-Los_Angeles
DTSTART:20071201T110000
DTEND:20071201T170000
DTSTAMP:20260421T172142Z
LOCATION:SoEx417 14th st at valencia, san francisco
ORGANIZER:MAILTO:you@sf0.org
SUMMARY:Grounded: Public Art / Urban Interventions Day
UID:20071201T11000036SFZero.org.EVENT
PRIORITY:5
CLASS:PUBLIC
END:VEVENT
END:VCALENDAR
