BEGIN:VCALENDAR
PRODID:-//SFZero.org//NONSGML SFZero//EN
VERSION:2.0
METHOD:PUBLISH
BEGIN:VEVENT
DESCRIPTION:As opposed to watching lame-ol' sports, have a superb owl party! They're great! Just bring wings, burgers, or other fun snacks to a party and talk to friends whilst doing stuff I guess. You could flip through some channels on the TV I guess, but whatever, just do party stuff. Like balloons. And pinatas. As long as they aren't someone who's cool or something. Like Bill Murray. Don't make a pinata of Bill Murray.
TZID:California-Los_Angeles
DTSTART:20120205T140000
DTEND:20120205T235900
DTSTAMP:20260424T131615Z
LOCATION:Everywhere where there is sports not to be watched
ORGANIZER:MAILTO:you@sf0.org
SUMMARY:Superb Owl Party
UID:20120205T140000364SFZero.org.EVENT
PRIORITY:5
CLASS:PUBLIC
END:VEVENT
END:VCALENDAR
