BEGIN:VCALENDAR
PRODID:-//SFZero.org//NONSGML SFZero//EN
VERSION:2.0
METHOD:PUBLISH
BEGIN:VEVENT
DESCRIPTION:Let's get the global SF0 community together for a giant group completion of I'm Looking For!!!\n\nStep 1: \n\nInvent a Person. Define what they look like and what they dress. Draw or find a picture online of them. Post your drawing/rendering/photomanipulation/sculpture/representation of them and relevant data/bio on them on the comments.\n\nThis part is DUE BY SUNDAY, FEBRUARY 24, 2013 \nThat gives you two whole months, so make it good if you can. If you submit before, you get gold stars. If you submit after, you might be SOL.\n\n\nStep 2:\n\nWe will all study up on each others' people and the go into the city and find the people of someone else's invention. (Feel free to Spread SF0 as you do so). Document them and how you found them in the group task write-up next to the description of the person.\n\nThis part is DUE BY SUNDAY, APRIL 28, 2013 \n\nHave fun! Go wild! Enjoy!
TZID:California-Los_Angeles
DTSTART:20130224T000000
DTEND:20140224T000000
DTSTAMP:20260419T212032Z
LOCATION:everywhere
ORGANIZER:MAILTO:you@sf0.org
SUMMARY:People Swap
UID:20130224T000000378SFZero.org.EVENT
PRIORITY:5
CLASS:PUBLIC
END:VEVENT
END:VCALENDAR
