BEGIN:VCALENDAR
PRODID:-//SFZero.org//NONSGML SFZero//EN
VERSION:2.0
METHOD:PUBLISH
BEGIN:VEVENT
DESCRIPTION:For far too long have our nation's zombies been denied their basic rights: BRAINS!\n\nIf you are a zombie, and you are in Los Angeles, and you have been denied BRAINS, come march with your fellow zombies and show your support.\n\nThat's right, Los Angeles, it's time for the zombies to reclaim the streets. It's time for all good zombies to take action. It's time for Zombie Flash Mob. Garb yourself not only in your zombie finest, come prepared to let the world know how you feel about BRAINS. Bring your fake blood, your severed limbs, and your protest signs.\n\nThe zombie protest march begins Friday, October 26, 5:00 P.M. at the corner of Hollywood and Vine and proceed to that repository of flash the Hollywood and Highland mall.\n\nWhat's that? You're not in Los Angeles? Don't despair, this is no reason you can't show solidarity. For if the oppressor marches on the backs of the dead, soon he will march on the backs of us all. Please, good people, take to the streets of your towns and stand up for your rotting comrades.
TZID:California-Los_Angeles
DTSTART:20071026T170000
DTSTAMP:20260425T161324Z
LOCATION:Dateline Hollywood, CABegins at the intersection of Hollywood Boulevard and Vine Street in Hollywood, CA
ORGANIZER:MAILTO:you@sf0.org
SUMMARY:Zombies Invade Hollywood
UID:20071026T17000038SFZero.org.EVENT
PRIORITY:5
CLASS:PUBLIC
END:VEVENT
END:VCALENDAR
