BEGIN:VCALENDAR
PRODID:-//SFZero.org//NONSGML SFZero//EN
VERSION:2.0
METHOD:PUBLISH
BEGIN:VEVENT
DESCRIPTION:Come out March 17th to participate in a blind-photography street game that has been played around the world.\n\nWe will meet up at 2pm at the Nelson Hancock Gallery in Brooklyn, split into small groups, and head out to complete a series of photographic assignments while blindfolded. The goal is to take pictures by using intuition, instinct and your other senses, while interacting with the city in a new way.\n\nPlease RSVP if you're interested in attending. We'll also be having a similar event in San Francisco soon.\n\nShare your images at the Nelson Hancock Gallery immediately after photographing and be included in an exhibit in conjunction with the book Seeing Beyond Sight at 111 Minna Gallery in San Francisco on May 17.\n\nDirections:\nTake the F-train to York Street stop or the A/C-train to High Street/Brooklyn Bridge. Walk down toward the bridges and East River until you encounter Front Street. Turn left, if you are coming down from Jay Street (F); make a right, if you are approaching from Washington Street (A/C).\n\nWeather-related Update:\nAt least on the news, the East Coast is freakin' out about this snow! But we'll still be taking pictures tomorrow - a snowed-in city is beautiful, and quiet. The precipitation, in whatever form, is supposed to have stopped by tomorrow morning. It will be chilly, though, so wear a scarf!
TZID:California-Los_Angeles
DTSTART:20070317T140000
DTSTAMP:20260423T012024Z
LOCATION:111 Front St. #204, Brooklyn \"Nelson Hancock Gallery\"
ORGANIZER:MAILTO:you@sf0.org
SUMMARY:Seeing Beyond Sight: NYC
UID:20070317T1400004SFZero.org.EVENT
PRIORITY:5
CLASS:PUBLIC
END:VEVENT
END:VCALENDAR
