BEGIN:VCALENDAR
PRODID:-//SFZero.org//NONSGML SFZero//EN
VERSION:2.0
METHOD:PUBLISH
BEGIN:VEVENT
DESCRIPTION: \n\n\nArriving by train, the two CG0 Agents going by the names of Lisa and Dax will be sneaking into SF0.\n\nFor two weeks they will be lurking around the Bay and printing their mark around SF0!\n\n\n\n\n[actual size is 3" x 4" !]\n\n\n\n\n\n\nAny SF0 player who manages to track these adventurers down within the allotted time will receive an official CG0 stamp* on any paper-like substance that they wish. They will also receive commemorative CG0 hugs**.\n\nThe CG0 agents will be continually on the move during these two weeks, and players will require advanced tracking skills in order to find them! The player(s) who execute the most creative technique of luring the CG0 agents into awarding a stamp will also receive incredible handmade gifts!\n\n\nClues:\n\n1) as this will be the first time that Lisa has been to an ocean, it is a good chance that these two adventurers will be found haunting the coastal cliffs for much of their stay.\n\n2) the CG0 agents are far from home, and might be tempted by promises of food and shelter.\n\n\n\n\n\n\n\n* Bearers of these stamps will be granted admission to future CG0-only events! Stamped goods can also be used as currency in the post-apocalyptic landscape!\n\n** These hugs are of unparalleled value!!!\n\n\n\n\n\n 
TZID:California-Los_Angeles
DTSTART:20070103T192500
DTEND:20070118T080500
DTSTAMP:20260421T053940Z
LOCATION:begins and ends at the Emeryville Amtrak Platform5885 Landregan St, Emeryville, CA
ORGANIZER:MAILTO:you@sf0.org
SUMMARY:CG0 Agents are somewhere in SF0
UID:20070103T19250055SFZero.org.EVENT
PRIORITY:5
CLASS:PUBLIC
END:VEVENT
END:VCALENDAR
