BEGIN:VCALENDAR
PRODID:-//SFZero.org//NONSGML SFZero//EN
VERSION:2.0
METHOD:PUBLISH
BEGIN:VEVENT
DESCRIPTION:It's my birthday as well as a few other people's at my house so we're celebrating the Capricorns and Aquarians among us.\n\n\nMessage me for the address.\nSome booze provided but best to bring some too.\nMustaches are always a good idea.\n\nDid I mention 2 levels of dancing, a back garden and a phenomenal view of the city?
TZID:California-Los_Angeles
DTSTART:20080126T210000
DTSTAMP:20260421T210438Z
LOCATION:My HouseMarket and Romain, San Francisco
ORGANIZER:MAILTO:you@sf0.org
SUMMARY:Birthday Madness
UID:20080126T21000060SFZero.org.EVENT
PRIORITY:5
CLASS:PUBLIC
END:VEVENT
END:VCALENDAR
