BEGIN:VCALENDAR
PRODID:-//SFZero.org//NONSGML SFZero//EN
VERSION:2.0
METHOD:PUBLISH
BEGIN:VEVENT
DESCRIPTION:\n\nThe annual underground convergence of firecracker aficionados at the only time and place where you can get away with it; the heart of Chinatown during the days surrounding Chinese New Year festivities. Eye and ear protection is a must. A nonflammable hat and a leather coat with the collar sealed at the neck is recommended. Meet on the 900 block of Grant, between Washington and Jackson. Try to act nonchalant, like a tourist. All hell breaks loose at midnight.
TZID:California-Los_Angeles
DTSTART:20080206T230000
DTEND:20080206T235900
DTSTAMP:20260421T062258Z
LOCATION:The Heart of China Town900 Grant Ave., San Francisco 94108
ORGANIZER:MAILTO:you@sf0.org
SUMMARY:Big Trouble in Little China Town
UID:20080206T23000062SFZero.org.EVENT
PRIORITY:5
CLASS:PUBLIC
END:VEVENT
END:VCALENDAR
