BEGIN:VCALENDAR
PRODID:-//SFZero.org//NONSGML SFZero//EN
VERSION:2.0
METHOD:PUBLISH
BEGIN:VEVENT
DESCRIPTION:Bring a pillow and a smile.\n\nwww.pillowfight.info\n\n\nhttp://www.youtube.com/watch?v=DiLEH5J_Ux4\n\n\n
TZID:California-Los_Angeles
DTSTART:20080214T180000
DTSTAMP:20260419T174335Z
LOCATION:Justin Herman Plaza (Embarcadero Plaza)1 Market St, San Francisco, CA
ORGANIZER:MAILTO:you@sf0.org
SUMMARY:Valentine's Day Pillow Fight!
UID:20080214T18000064SFZero.org.EVENT
PRIORITY:5
CLASS:PUBLIC
END:VEVENT
END:VCALENDAR
