BEGIN:VCALENDAR
PRODID:-//SFZero.org//NONSGML SFZero//EN
VERSION:2.0
METHOD:PUBLISH
BEGIN:VEVENT
DESCRIPTION:http://staffs.facebook.com/group.php?gid=9801981146\n\nIf you live in [America], and are available on the afternoon of May 15th, GO OUT AND BUY AS MANY CARROTS AS YOU CAN.\n\nthe lady and I were lurking about, and discovered Haberley Mead's profile. On it, he describes an event during which all enterprising carrot lovers in the UK will buy out the world's carrot supply for use in various carrot related...things. We determined that this was awesome. We feel that the enterprising carrot lovers on this side of the pond need to chip in.\n\nStep 1. Buy out the world's carrots.\nStep 2. ???\nStep 3. PROFIT!\n\n...or something like that.\n\nBonus awesome if you do something clever/task with your carrots!
TZID:California-Los_Angeles
DTSTART:20080515T140000
DTSTAMP:20260419T123841Z
LOCATION:The whole world, hopefullyUnited States of Everywhere
ORGANIZER:MAILTO:you@sf0.org
SUMMARY:Global Carrot Buyout
UID:20080515T14000074SFZero.org.EVENT
PRIORITY:5
CLASS:PUBLIC
END:VEVENT
END:VCALENDAR
