BEGIN:VCALENDAR
PRODID:-//SFZero.org//NONSGML SFZero//EN
VERSION:2.0
METHOD:PUBLISH
BEGIN:VEVENT
DESCRIPTION:Epic Pretired Craziness...\nI Kyle Hamilton have decided to grace epic sf0 with my epic presence.\nTo celebrate said epicness I will be having a pretired task competition.\nVote for your favorite pretired tasks by commenting them below (Please include task name | description and a link to the original pretired task.) the 4 most loved or most epic at my discretion tasks will be chosen and people will compete in task form at the Top of delores park on Sunday the 23rd at 2'oclock
TZID:California-Los_Angeles
DTSTART:20080323T140000
DTSTAMP:20260424T205840Z
LOCATION:Delores parkDelores park, SF
ORGANIZER:MAILTO:you@sf0.org
SUMMARY:Epic Pretired Craziness...a task to be chossen soon....real soon...I sware
UID:20080323T14000078SFZero.org.EVENT
PRIORITY:5
CLASS:PUBLIC
END:VEVENT
END:VCALENDAR
