BEGIN:VCALENDAR
PRODID:-//SFZero.org//NONSGML SFZero//EN
VERSION:2.0
METHOD:PUBLISH
BEGIN:VEVENT
DESCRIPTION:There is now an official Standardized New-player Test (SNT).\nAny newbies to sf0 can take this test to learn the basics and fundamentals of the game.\nEven older players can take it if they want, but it's mostly for new players.\nSo far I have three people signed up, and I've decided to post it here to find more people, so if you've been playing SF0 for less than a month then sign up!\nTop three will be added as collaborators if I get more entries than ten.\nHere's a little tip: Creativity is valued just as much as correct answers. So don't avoid those Bonus Questions!\n\nHere's the test, once you've signed up here then take it and send it to me for grading!\n\n\nUsername:\nCurrent player name:\nDate:\n\n\n\nThis is the Standardized\nTest for new players. A new player must get at least 50 points to\nmake the step from Newbie to Player.\nDo not look at the site or\nany other source of answers while you do this test.\nIt is to test\nyour current knowledge.\nIf you fail you may take this test again\nnext week.\nEach correct answer is worth a different amount of\npoints. There are 10 questions in all. The last three are bonus\nquestions.\n\n\n\n\n\n1. What is the first task every\nplayer is assigned?\n\nWorth 5 points.\n\n2.\nWhat are the names of all the groups?\n\nWorth 10\npoints\n\n3. Who are the three founders of SF0?\n\nWorth\n15 points\n\n4. Give a description of what Badges are\nfor:\n\nWorth 20 points.\n\n5. What is the picture on\nthe SF0 logo of?\n\nWorth 20 points.\n\n6. How many\ntasks are you allowed to be signed up for at a time?\n\nWorth\n10 points\n\n7. What is the monthly cost for running the\nsite?\n\nWorth 20 points\n\n-Bonus\nQuestions-\n\n8. Why\ndo you play SF0?\n\n9. Invent a task:\n\n10.\nCompose a (short or long) poem related to sf0:
TZID:California-Los_Angeles
DTSTART:20080315T053000
DTSTAMP:20260422T162721Z
LOCATION:Wherever you areWherever you want to be
ORGANIZER:MAILTO:you@sf0.org
SUMMARY:Standardized New-player Test (SNT)
UID:20080315T05300086SFZero.org.EVENT
PRIORITY:5
CLASS:PUBLIC
END:VEVENT
END:VCALENDAR
